BEGIN:VCALENDAR
VERSION:2.0
PRODID:-//Inclusion Selkirk - ECPv6.15.20//NONSGML v1.0//EN
CALSCALE:GREGORIAN
METHOD:PUBLISH
X-WR-CALNAME:Inclusion Selkirk
X-ORIGINAL-URL:https://inclusionselkirk.ca
X-WR-CALDESC:Events for Inclusion Selkirk
REFRESH-INTERVAL;VALUE=DURATION:PT1H
X-Robots-Tag:noindex
X-PUBLISHED-TTL:PT1H
BEGIN:VTIMEZONE
TZID:UTC
BEGIN:STANDARD
TZOFFSETFROM:+0000
TZOFFSETTO:+0000
TZNAME:UTC
DTSTART:20250101T000000
END:STANDARD
END:VTIMEZONE
BEGIN:VEVENT
DTSTART;TZID=UTC:20260428T180000
DTEND;TZID=UTC:20260428T210000
DTSTAMP:20260421T141452
CREATED:20260420T135313Z
LAST-MODIFIED:20260420T135641Z
UID:10000038-1777399200-1777410000@inclusionselkirk.ca
SUMMARY:Interlake Connections: ALIDA in Action
DESCRIPTION:ALIDA legislation applies to adults with Intellectual Disabilities. This session will talk about how this impacts decision making\, ways to build capacity\, preparing youth for decision making when they turn 18\, and all of the challanges this brings with it. The session will provide opportunity for open dialogue and converstaions to untangle some of the mess. If you struggle with handing over decision making\, this session is for you. If you’re a parent who has had some success or challanges with this\, come and share your perspective with other families. \nDate: Tuesday\, April 28\, 2026 \nTime: 6:00 PM \nLocation: Something Beautiful\, Stonewall \nPRESENTATION OPEN TO FAMILIES\, SCHOOL STAFF\, AND SERVICE PROVIDERS 6-8PM \nWITH A FAMILY ENGAGEMENT MEETING TO FOLLOW FROM 8-9PM \n6-9PM RESPITE SUPPORTS AVAILABLE ON SITE: When registering please advise if you are bringing your child/sibling with them including their ages and interests. Please also note: anyone who needs specialized behaviour/medical support will require their own support staff to attend the group with them. \nThis event is Coordinated by Inclusion Selkirk\, Community Bridges Gimli\, and Community Living Interlake \nRegistration: \nhttps://www.eventbrite.ca/e/interlake-connections-alida-in-action-tickets-1987687375447?aff=oddtdtcreator
URL:https://inclusionselkirk.ca/clscalendar/interlake-connections-alida-in-action/
LOCATION:307 Main Street\, Stonewall\, MB\, 307 Main Street\, Stonewall\, manitoba\, Canada
ATTACH;FMTTYPE=image/png:https://inclusionselkirk.ca/wp-content/uploads/2026/04/Interlake-Connections-April-28-2026.png
END:VEVENT
END:VCALENDAR